BEGIN:VCALENDAR
VERSION:2.0
PRODID:-//LEO Network//Training Calendar//EN
BEGIN:VEVENT
UID:event-7963@leo-network.com
DTSTAMP:20260421T204007Z
DTSTART:20251117T160000Z
DTEND:20251122T010000Z
SUMMARY:Digital Photography for Traffic Crash Investigators
DESCRIPTION:Law Enforcement Training
Hosted by: Institute of Police Technology and Management (IPTM)

View event details:
https://www.leo-network.com/event/digital-photography-for-traffic-crash-investigators-meriden-ct-7963/
LOCATION:Meriden, CT
URL:https://www.leo-network.com/event/digital-photography-for-traffic-crash-investigators-meriden-ct-7963/
END:VEVENT
END:VCALENDAR
