BEGIN:VCALENDAR
VERSION:2.0
PRODID:-//LEO Network//Training Calendar//EN
BEGIN:VEVENT
UID:event-7977@leo-network.com
DTSTAMP:20260421T203305Z
DTSTART:20251112T160000Z
DTEND:20251115T010000Z
SUMMARY:Forensic Evidence from Crash Fatalities
DESCRIPTION:Law Enforcement Training
Hosted by: Institute of Police Technology and Management (IPTM)

View event details:
https://www.leo-network.com/event/forensic-evidence-from-crash-fatalities-meriden-ct-7977/
LOCATION:Meriden, CT
URL:https://www.leo-network.com/event/forensic-evidence-from-crash-fatalities-meriden-ct-7977/
END:VEVENT
END:VCALENDAR
