BEGIN:VCALENDAR
VERSION:2.0
PRODID:-//LEO Network//Training Calendar//EN
BEGIN:VEVENT
UID:event-7980@leo-network.com
DTSTAMP:20260421T202415Z
DTSTART:20250623T150000Z
DTEND:20250628T000000Z
SUMMARY:Human Factors in Traffic Crash Reconstruction
DESCRIPTION:Law Enforcement Training
Hosted by: Institute of Police Technology and Management (IPTM)

View event details:
https://www.leo-network.com/event/human-factors-in-traffic-crash-reconstruction-windsor-locks-ct-7980/
LOCATION:Windsor Locks, CT
URL:https://www.leo-network.com/event/human-factors-in-traffic-crash-reconstruction-windsor-locks-ct-7980/
END:VEVENT
END:VCALENDAR
