BEGIN:VCALENDAR
VERSION:2.0
PRODID:-//LEO Network//Training Calendar//EN
BEGIN:VEVENT
UID:event-7985@leo-network.com
DTSTAMP:20260421T141410Z
DTSTART:20250602T150000Z
DTEND:20250603T000000Z
SUMMARY:Marijuana Impaired Driving Detection for Law Enforcement
DESCRIPTION:Law Enforcement Training
Hosted by: Institute of Police Technology and Management (IPTM)

View event details:
https://www.leo-network.com/event/marijuana-impaired-driving-detection-for-law-enforcement-pensacola-fl-7985/
LOCATION:Pensacola, FL
URL:https://www.leo-network.com/event/marijuana-impaired-driving-detection-for-law-enforcement-pensacola-fl-7985/
END:VEVENT
END:VCALENDAR
