BEGIN:VCALENDAR
VERSION:2.0
PRODID:-//LEO Network//Training Calendar//EN
BEGIN:VEVENT
UID:event-7990@leo-network.com
DTSTAMP:20260421T141612Z
DTSTART:20250603T150000Z
DTEND:20250604T000000Z
SUMMARY:Advanced Marijuana Impaired Driving Detection for Law Enforcement
DESCRIPTION:Law Enforcement Training
Hosted by: Institute of Police Technology and Management (IPTM)

View event details:
https://www.leo-network.com/event/advanced-marijuana-impaired-driving-detection-for-law-enforcement-pensacola-fl-7990/
LOCATION:Pensacola, FL
URL:https://www.leo-network.com/event/advanced-marijuana-impaired-driving-detection-for-law-enforcement-pensacola-fl-7990/
END:VEVENT
END:VCALENDAR
