BEGIN:VCALENDAR
VERSION:2.0
PRODID:-//LEO Network//Training Calendar//EN
BEGIN:VEVENT
UID:event-8016@leo-network.com
DTSTAMP:20260422T155004Z
DTSTART:20250519T150000Z
DTEND:20250521T000000Z
SUMMARY:Two Day Criminal Patrol and Criminal Interdiction Seminar
DESCRIPTION:Law Enforcement Training
Hosted by: Smart Interdiction LLC

View event details:
https://www.leo-network.com/event/two-day-criminal-patrol-and-criminal-interdiction-seminar-franklin-ky-8016/
LOCATION:Franklin, KY
URL:https://www.leo-network.com/event/two-day-criminal-patrol-and-criminal-interdiction-seminar-franklin-ky-8016/
END:VEVENT
END:VCALENDAR
