BEGIN:VCALENDAR
VERSION:2.0
PRODID:-//LEO Network//Training Calendar//EN
BEGIN:VEVENT
UID:event-8042@leo-network.com
DTSTAMP:20260422T155055Z
DTSTART:20250818T150000Z
DTEND:20250821T000000Z
SUMMARY:Field Training Officer
DESCRIPTION:Law Enforcement Training
Hosted by: Institute of Police Technology and Management (IPTM)

View event details:
https://www.leo-network.com/event/field-training-officer-nicholas-ky-8042/
LOCATION:Nicholas, KY
URL:https://www.leo-network.com/event/field-training-officer-nicholas-ky-8042/
END:VEVENT
END:VCALENDAR
