BEGIN:VCALENDAR
VERSION:2.0
PRODID:-//LEO Network//Training Calendar//EN
BEGIN:VEVENT
UID:event-8043@leo-network.com
DTSTAMP:20260422T201954Z
DTSTART:20251020T150000Z
DTEND:20251023T000000Z
SUMMARY:Managing the Detective Unit
DESCRIPTION:Law Enforcement Training
Hosted by: Institute of Police Technology and Management (IPTM)

View event details:
https://www.leo-network.com/event/managing-the-detective-unit-austell-ga-8043/
LOCATION:Austell, GA
URL:https://www.leo-network.com/event/managing-the-detective-unit-austell-ga-8043/
END:VEVENT
END:VCALENDAR
