BEGIN:VCALENDAR
VERSION:2.0
PRODID:-//LEO Network//Training Calendar//EN
BEGIN:VEVENT
UID:event-8046@leo-network.com
DTSTAMP:20260421T124348Z
DTSTART:20250410T150000Z
DTEND:20250411T000000Z
SUMMARY:Critical Incident Response
DESCRIPTION:Law Enforcement Training
Hosted by: J Harris Academy of Police Training

View event details:
https://www.leo-network.com/event/critical-incident-response-robbinsville-nj-8046/
LOCATION:Robbinsville, NJ
URL:https://www.leo-network.com/event/critical-incident-response-robbinsville-nj-8046/
END:VEVENT
END:VCALENDAR
