BEGIN:VCALENDAR
VERSION:2.0
PRODID:-//LEO Network//Training Calendar//EN
BEGIN:VEVENT
UID:event-8055@leo-network.com
DTSTAMP:20260421T034627Z
DTSTART:20250617T150000Z
DTEND:20250618T000000Z
SUMMARY:Command, Leadership & Supervision
DESCRIPTION:Law Enforcement Training
Hosted by: J Harris Academy of Police Training

View event details:
https://www.leo-network.com/event/command-leadership-supervision-lakewood-co-8055/
LOCATION:Lakewood, CO
URL:https://www.leo-network.com/event/command-leadership-supervision-lakewood-co-8055/
END:VEVENT
END:VCALENDAR
