BEGIN:VCALENDAR
VERSION:2.0
PRODID:-//LEO Network//Training Calendar//EN
BEGIN:VEVENT
UID:event-8058@leo-network.com
DTSTAMP:20260421T113447Z
DTSTART:20250819T150000Z
DTEND:20250820T000000Z
SUMMARY:New Jersey: Comprehensive Juvenile Course
DESCRIPTION:Law Enforcement Training
Hosted by: J Harris Academy of Police Training

View event details:
https://www.leo-network.com/event/new-jersey-comprehensive-juvenile-course-robbinsville-nj-8058/
LOCATION:Robbinsville, NJ
URL:https://www.leo-network.com/event/new-jersey-comprehensive-juvenile-course-robbinsville-nj-8058/
END:VEVENT
END:VCALENDAR
