BEGIN:VCALENDAR
VERSION:2.0
PRODID:-//LEO Network//Training Calendar//EN
BEGIN:VEVENT
UID:event-8062@leo-network.com
DTSTAMP:20260422T155055Z
DTSTART:20250930T150000Z
DTEND:20250902T000000Z
SUMMARY:Command Series Level 2: Developing “Next Level” Middle Managers
DESCRIPTION:Law Enforcement Training
Hosted by: J Harris Academy of Police Training

View event details:
https://www.leo-network.com/event/command-series-level-2-developing-next-level-middle-managers-independence-ky-8062/
LOCATION:Independence, KY
URL:https://www.leo-network.com/event/command-series-level-2-developing-next-level-middle-managers-independence-ky-8062/
END:VEVENT
END:VCALENDAR
