BEGIN:VCALENDAR
VERSION:2.0
PRODID:-//LEO Network//Training Calendar//EN
BEGIN:VEVENT
UID:event-8091@leo-network.com
DTSTAMP:20260421T125515Z
DTSTART:20250623T150000Z
DTEND:20250626T000000Z
SUMMARY:DWI Detection and Standardized Field Sobriety Testing
DESCRIPTION:Law Enforcement Training
Hosted by: Institute of Police Technology and Management (IPTM)

View event details:
https://www.leo-network.com/event/dwi-detection-and-standardized-field-sobriety-testing-cape-coral-fl-8091/
LOCATION:Cape Coral, FL
URL:https://www.leo-network.com/event/dwi-detection-and-standardized-field-sobriety-testing-cape-coral-fl-8091/
END:VEVENT
END:VCALENDAR
