BEGIN:VCALENDAR
VERSION:2.0
PRODID:-//LEO Network//Training Calendar//EN
BEGIN:VEVENT
UID:event-8110@leo-network.com
DTSTAMP:20260422T202010Z
DTSTART:20250916T150000Z
DTEND:20250917T000000Z
SUMMARY:Law Enforcement Liability
DESCRIPTION:Law Enforcement Training
Hosted by: Blue to Gold Training

View event details:
https://www.leo-network.com/event/law-enforcement-liability-forest-park-ga-8110/
LOCATION:forest park, GA
URL:https://www.leo-network.com/event/law-enforcement-liability-forest-park-ga-8110/
END:VEVENT
END:VCALENDAR
