BEGIN:VCALENDAR
VERSION:2.0
PRODID:-//LEO Network//Training Calendar//EN
BEGIN:VEVENT
UID:event-8112@leo-network.com
DTSTAMP:20260422T202433Z
DTSTART:20250918T150000Z
DTEND:20250919T000000Z
SUMMARY:Duty to Intervene by Blue to Gold
DESCRIPTION:Law Enforcement Training
Hosted by: Blue to Gold Training

View event details:
https://www.leo-network.com/event/duty-to-intervene-by-blue-to-gold-forest-park-ga-8112/
LOCATION:forest park, GA
URL:https://www.leo-network.com/event/duty-to-intervene-by-blue-to-gold-forest-park-ga-8112/
END:VEVENT
END:VCALENDAR
