BEGIN:VCALENDAR
VERSION:2.0
PRODID:-//LEO Network//Training Calendar//EN
BEGIN:VEVENT
UID:event-8152@leo-network.com
DTSTAMP:20260425T031453Z
DTSTART:20250924T150000Z
DTEND:20250927T000000Z
SUMMARY:Diamondback Specialized CMV Training
DESCRIPTION:Law Enforcement Training
Hosted by: Diamondback

View event details:
https://www.leo-network.com/event/diamondback-specialized-cmv-training-newtown-pa-8152/
LOCATION:Newtown, PA
URL:https://www.leo-network.com/event/diamondback-specialized-cmv-training-newtown-pa-8152/
END:VEVENT
END:VCALENDAR
