BEGIN:VCALENDAR
VERSION:2.0
PRODID:-//LEO Network//Training Calendar//EN
BEGIN:VEVENT
UID:event-8154@leo-network.com
DTSTAMP:20260425T161849Z
DTSTART:20250611T150000Z
DTEND:20250612T000000Z
SUMMARY:Recovering Missing Persons: Disabilities/Dementia for Dispatchers
DESCRIPTION:Law Enforcement Training
Hosted by: GET SAFE

View event details:
https://www.leo-network.com/event/recovering-missing-persons-disabilities-dementia-for-dispatchers-online-8154/
LOCATION:NA, NA
URL:https://www.leo-network.com/event/recovering-missing-persons-disabilities-dementia-for-dispatchers-online-8154/
END:VEVENT
END:VCALENDAR
