BEGIN:VCALENDAR
VERSION:2.0
PRODID:-//LEO Network//Training Calendar//EN
BEGIN:VEVENT
UID:event-8174@leo-network.com
DTSTAMP:20260420T183845Z
DTSTART:20250716T150000Z
DTEND:20250719T000000Z
SUMMARY:Follow The Money: Money Laundering & Asset Forfeiture
DESCRIPTION:Law Enforcement Training
Hosted by: ADBTraining™

View event details:
https://www.leo-network.com/event/follow-the-money-money-laundering-asset-forfeiture-baltimore-md-8174/
LOCATION:Baltimore, MD
URL:https://www.leo-network.com/event/follow-the-money-money-laundering-asset-forfeiture-baltimore-md-8174/
END:VEVENT
END:VCALENDAR
