BEGIN:VCALENDAR
VERSION:2.0
PRODID:-//LEO Network//Training Calendar//EN
BEGIN:VEVENT
UID:event-8232@leo-network.com
DTSTAMP:20260420T204943Z
DTSTART:20260105T160000Z
DTEND:20260106T010000Z
SUMMARY:The Art of Interdiction 
DESCRIPTION:Law Enforcement Training
Hosted by: Justice Academy 

View event details:
https://www.leo-network.com/event/the-art-of-interdiction-summerville-sc-8232/
LOCATION:Summerville, SC
URL:https://www.leo-network.com/event/the-art-of-interdiction-summerville-sc-8232/
END:VEVENT
END:VCALENDAR
