BEGIN:VCALENDAR
VERSION:2.0
PRODID:-//LEO Network//Training Calendar//EN
BEGIN:VEVENT
UID:event-8287@leo-network.com
DTSTAMP:20260422T172456Z
DTSTART:20250930T150000Z
DTEND:20250905T000000Z
SUMMARY:Critical Incident Response Team K9 Seminar
DESCRIPTION:Law Enforcement Training
Hosted by: K9&#039;s For Freedom  &amp; Independence

View event details:
https://www.leo-network.com/event/critical-incident-response-team-k9-seminar-oklahoma-city-ok-8287/
LOCATION:Oklahoma City, OK
URL:https://www.leo-network.com/event/critical-incident-response-team-k9-seminar-oklahoma-city-ok-8287/
END:VEVENT
END:VCALENDAR
