BEGIN:VCALENDAR
VERSION:2.0
PRODID:-//LEO Network//Training Calendar//EN
BEGIN:VEVENT
UID:event-8338@leo-network.com
DTSTAMP:20260422T155003Z
DTSTART:20250721T150000Z
DTEND:20250723T000000Z
SUMMARY:Social Media & Open Source Investigations
DESCRIPTION:Law Enforcement Training
Hosted by: Covert Media Consulting LLC

View event details:
https://www.leo-network.com/event/social-media-open-source-investigations-joplin-mo-8338/
LOCATION:Joplin, MO
URL:https://www.leo-network.com/event/social-media-open-source-investigations-joplin-mo-8338/
END:VEVENT
END:VCALENDAR
