BEGIN:VCALENDAR
VERSION:2.0
PRODID:-//LEO Network//Training Calendar//EN
BEGIN:VEVENT
UID:event-8340@leo-network.com
DTSTAMP:20260421T204007Z
DTSTART:20250804T150000Z
DTEND:20250806T000000Z
SUMMARY:Social Media & Open Source Investigations
DESCRIPTION:Law Enforcement Training
Hosted by: Covert Media Consulting LLC

View event details:
https://www.leo-network.com/event/social-media-open-source-investigations-hartford-ct-8340/
LOCATION:Hartford, CT
URL:https://www.leo-network.com/event/social-media-open-source-investigations-hartford-ct-8340/
END:VEVENT
END:VCALENDAR
