BEGIN:VCALENDAR
VERSION:2.0
PRODID:-//LEO Network//Training Calendar//EN
BEGIN:VEVENT
UID:event-8343@leo-network.com
DTSTAMP:20260421T141612Z
DTSTART:20251009T150000Z
DTEND:20251011T000000Z
SUMMARY:Social Media & Open Source Investigations
DESCRIPTION:Law Enforcement Training
Hosted by: Covert Media Consulting LLC

View event details:
https://www.leo-network.com/event/social-media-open-source-investigations-daytona-beach-fl-8343/
LOCATION:Daytona Beach, FL
URL:https://www.leo-network.com/event/social-media-open-source-investigations-daytona-beach-fl-8343/
END:VEVENT
END:VCALENDAR
