BEGIN:VCALENDAR
VERSION:2.0
PRODID:-//LEO Network//Training Calendar//EN
BEGIN:VEVENT
UID:event-8349@leo-network.com
DTSTAMP:20260421T215533Z
DTSTART:20250910T150000Z
DTEND:20250911T000000Z
SUMMARY:Social Media & Open Source Investigations
DESCRIPTION:Law Enforcement Training
Hosted by: Covert Media Consulting LLC

View event details:
https://www.leo-network.com/event/social-media-open-source-investigations-greenwich-ct-8349/
LOCATION:Greenwich, CT
URL:https://www.leo-network.com/event/social-media-open-source-investigations-greenwich-ct-8349/
END:VEVENT
END:VCALENDAR
