BEGIN:VCALENDAR
VERSION:2.0
PRODID:-//LEO Network//Training Calendar//EN
BEGIN:VEVENT
UID:event-8351@leo-network.com
DTSTAMP:20260421T141612Z
DTSTART:20250808T150000Z
DTEND:20250809T000000Z
SUMMARY:Timing Advance, Tower Dumps & Area Search Investigations
DESCRIPTION:Law Enforcement Training
Hosted by: Covert Media Consulting LLC

View event details:
https://www.leo-network.com/event/timing-advance-tower-dumps-area-search-investigations-daytona-beach-fl-8351/
LOCATION:Daytona Beach, FL
URL:https://www.leo-network.com/event/timing-advance-tower-dumps-area-search-investigations-daytona-beach-fl-8351/
END:VEVENT
END:VCALENDAR
