BEGIN:VCALENDAR
VERSION:2.0
PRODID:-//LEO Network//Training Calendar//EN
BEGIN:VEVENT
UID:event-8352@leo-network.com
DTSTAMP:20260421T204001Z
DTSTART:20250910T150000Z
DTEND:20250911T000000Z
SUMMARY:Timing Advance, Tower Dumps & Area Search Investigations
DESCRIPTION:Law Enforcement Training
Hosted by: Covert Media Consulting LLC

View event details:
https://www.leo-network.com/event/timing-advance-tower-dumps-area-search-investigations-greenwich-ct-8352/
LOCATION:Greenwich, CT
URL:https://www.leo-network.com/event/timing-advance-tower-dumps-area-search-investigations-greenwich-ct-8352/
END:VEVENT
END:VCALENDAR
