BEGIN:VCALENDAR
VERSION:2.0
PRODID:-//LEO Network//Training Calendar//EN
BEGIN:VEVENT
UID:event-8363@leo-network.com
DTSTAMP:20260421T204139Z
DTSTART:20250911T150000Z
DTEND:20250912T000000Z
SUMMARY:Digital Currency Investigations
DESCRIPTION:Law Enforcement Training
Hosted by: Covert Media Consulting LLC

View event details:
https://www.leo-network.com/event/digital-currency-investigations-greenwich-ct-8363/
LOCATION:Greenwich, CT
URL:https://www.leo-network.com/event/digital-currency-investigations-greenwich-ct-8363/
END:VEVENT
END:VCALENDAR
