BEGIN:VCALENDAR
VERSION:2.0
PRODID:-//LEO Network//Training Calendar//EN
BEGIN:VEVENT
UID:event-838@leo-network.com
DTSTAMP:20260424T030020Z
DTSTART:20230314T150000Z
DTEND:20230318T000000Z
SUMMARY:Understanding the Mexican Cartels and Narco Cultura
DESCRIPTION:Law Enforcement Training
Hosted by: Training Provider

View event details:
https://www.leo-network.com/event/understanding-the-mexican-cartels-and-narco-cultura-santa-fe-nm-838/
LOCATION:Santa Fe, NM
URL:https://www.leo-network.com/event/understanding-the-mexican-cartels-and-narco-cultura-santa-fe-nm-838/
END:VEVENT
END:VCALENDAR
