BEGIN:VCALENDAR
VERSION:2.0
PRODID:-//LEO Network//Training Calendar//EN
BEGIN:VEVENT
UID:event-8398@leo-network.com
DTSTAMP:20260423T114352Z
DTSTART:20250922T150000Z
DTEND:20250923T000000Z
SUMMARY:EQ for the Telecommunicator
DESCRIPTION:Law Enforcement Training
Hosted by: The Adaptive Way LLC

View event details:
https://www.leo-network.com/event/eq-for-the-telecommunicator-jackson-springs-nc-8398/
LOCATION:Jackson Springs, NC
URL:https://www.leo-network.com/event/eq-for-the-telecommunicator-jackson-springs-nc-8398/
END:VEVENT
END:VCALENDAR
