BEGIN:VCALENDAR
VERSION:2.0
PRODID:-//LEO Network//Training Calendar//EN
BEGIN:VEVENT
UID:event-840@leo-network.com
DTSTAMP:20260421T015959Z
DTSTART:20230222T160000Z
DTEND:20230224T010000Z
SUMMARY:Don\'t Fear the Dark Side
DESCRIPTION:Law Enforcement Training
Hosted by: Training Provider

View event details:
https://www.leo-network.com/event/don-t-fear-the-dark-side-greer-sc-840/
LOCATION:Greer, SC
URL:https://www.leo-network.com/event/don-t-fear-the-dark-side-greer-sc-840/
END:VEVENT
END:VCALENDAR
