BEGIN:VCALENDAR
VERSION:2.0
PRODID:-//LEO Network//Training Calendar//EN
BEGIN:VEVENT
UID:event-8402@leo-network.com
DTSTAMP:20260423T114310Z
DTSTART:20250923T150000Z
DTEND:20250925T000000Z
SUMMARY:Supervising the FTO Program
DESCRIPTION:Law Enforcement Training
Hosted by: The Adaptive Way LLC

View event details:
https://www.leo-network.com/event/supervising-the-fto-program-jackson-springs-nc-8402/
LOCATION:Jackson Springs, NC
URL:https://www.leo-network.com/event/supervising-the-fto-program-jackson-springs-nc-8402/
END:VEVENT
END:VCALENDAR
