BEGIN:VCALENDAR
VERSION:2.0
PRODID:-//LEO Network//Training Calendar//EN
BEGIN:VEVENT
UID:event-8407@leo-network.com
DTSTAMP:20260421T114736Z
DTSTART:20250602T150000Z
DTEND:20250603T000000Z
SUMMARY:Use of Force (Level 1): Law Enforcement Essentials
DESCRIPTION:Law Enforcement Training
Hosted by: J Harris Academy of Police Training

View event details:
https://www.leo-network.com/event/use-of-force-level-1-law-enforcement-essentials-robbinsville-nj-8407/
LOCATION:Robbinsville, NJ
URL:https://www.leo-network.com/event/use-of-force-level-1-law-enforcement-essentials-robbinsville-nj-8407/
END:VEVENT
END:VCALENDAR
