BEGIN:VCALENDAR
VERSION:2.0
PRODID:-//LEO Network//Training Calendar//EN
BEGIN:VEVENT
UID:event-8408@leo-network.com
DTSTAMP:20260421T114752Z
DTSTART:20250603T150000Z
DTEND:20250604T000000Z
SUMMARY:Use of Force (Level 2): “Next Level” Leadership & Training
DESCRIPTION:Law Enforcement Training
Hosted by: J Harris Academy of Police Training

View event details:
https://www.leo-network.com/event/use-of-force-level-2-next-level-leadership-training-robbinsville-nj-8408/
LOCATION:Robbinsville, NJ
URL:https://www.leo-network.com/event/use-of-force-level-2-next-level-leadership-training-robbinsville-nj-8408/
END:VEVENT
END:VCALENDAR
