BEGIN:VCALENDAR
VERSION:2.0
PRODID:-//LEO Network//Training Calendar//EN
BEGIN:VEVENT
UID:event-8409@leo-network.com
DTSTAMP:20260421T114624Z
DTSTART:20250604T150000Z
DTEND:20250605T000000Z
SUMMARY:Use of Force (Level 3): Meaningful Reviews & Organizational “Best Practices”
DESCRIPTION:Law Enforcement Training
Hosted by: J Harris Academy of Police Training

View event details:
https://www.leo-network.com/event/use-of-force-level-3-meaningful-reviews-organizational-best-practices-robbinsville-nj-8409/
LOCATION:Robbinsville, NJ
URL:https://www.leo-network.com/event/use-of-force-level-3-meaningful-reviews-organizational-best-practices-robbinsville-nj-8409/
END:VEVENT
END:VCALENDAR
