BEGIN:VCALENDAR
VERSION:2.0
PRODID:-//LEO Network//Training Calendar//EN
BEGIN:VEVENT
UID:event-841@leo-network.com
DTSTAMP:20260421T015928Z
DTSTART:20230221T160000Z
DTEND:20230222T010000Z
SUMMARY:DUI Building Blocks
DESCRIPTION:Law Enforcement Training
Hosted by: Training Provider

View event details:
https://www.leo-network.com/event/dui-building-blocks-greer-sc-841/
LOCATION:Greer, SC
URL:https://www.leo-network.com/event/dui-building-blocks-greer-sc-841/
END:VEVENT
END:VCALENDAR
