BEGIN:VCALENDAR
VERSION:2.0
PRODID:-//LEO Network//Training Calendar//EN
BEGIN:VEVENT
UID:event-8410@leo-network.com
DTSTAMP:20260421T085425Z
DTSTART:20250612T150000Z
DTEND:20250613T000000Z
SUMMARY:\"Next Level\" Report Writing: Moving Beyond the Basics
DESCRIPTION:Law Enforcement Training
Hosted by: J Harris Academy of Police Training

View event details:
https://www.leo-network.com/event/next-level-report-writing-moving-beyond-the-basics-robbinsville-nj-8410/
LOCATION:Robbinsville, NJ
URL:https://www.leo-network.com/event/next-level-report-writing-moving-beyond-the-basics-robbinsville-nj-8410/
END:VEVENT
END:VCALENDAR
