BEGIN:VCALENDAR
VERSION:2.0
PRODID:-//LEO Network//Training Calendar//EN
BEGIN:VEVENT
UID:event-8434@leo-network.com
DTSTAMP:20260422T143158Z
DTSTART:20250620T150000Z
DTEND:20250621T000000Z
SUMMARY:Facial Expressions & Deception Live Webinar
DESCRIPTION:Law Enforcement Training
Hosted by: ONEFACE LLC

View event details:
https://www.leo-network.com/event/facial-expressions-deception-live-webinar-online-8434/
LOCATION:NA, OL
URL:https://www.leo-network.com/event/facial-expressions-deception-live-webinar-online-8434/
END:VEVENT
END:VCALENDAR
