BEGIN:VCALENDAR
VERSION:2.0
PRODID:-//LEO Network//Training Calendar//EN
BEGIN:VEVENT
UID:event-8442@leo-network.com
DTSTAMP:20260424T183044Z
DTSTART:20250721T150000Z
DTEND:20250726T000000Z
SUMMARY:Human Factors in Pedestrian/Bicycle Reconstruction
DESCRIPTION:Law Enforcement Training
Hosted by: Institute of Police Technology and Management (IPTM)

View event details:
https://www.leo-network.com/event/human-factors-in-pedestrian-bicycle-reconstruction-irvine-ca-8442/
LOCATION:Irvine, CA
URL:https://www.leo-network.com/event/human-factors-in-pedestrian-bicycle-reconstruction-irvine-ca-8442/
END:VEVENT
END:VCALENDAR
