BEGIN:VCALENDAR
VERSION:2.0
PRODID:-//LEO Network//Training Calendar//EN
BEGIN:VEVENT
UID:event-8477@leo-network.com
DTSTAMP:20260422T115533Z
DTSTART:20250804T150000Z
DTEND:20250805T000000Z
SUMMARY:Elicitation Methods Live Webinar
DESCRIPTION:Law Enforcement Training
Hosted by: ONEFACE LLC

View event details:
https://www.leo-network.com/event/elicitation-methods-live-webinar-online-8477/
LOCATION:NA, OL
URL:https://www.leo-network.com/event/elicitation-methods-live-webinar-online-8477/
END:VEVENT
END:VCALENDAR
