BEGIN:VCALENDAR
VERSION:2.0
PRODID:-//LEO Network//Training Calendar//EN
BEGIN:VEVENT
UID:event-8493@leo-network.com
DTSTAMP:20260421T135636Z
DTSTART:20251117T160000Z
DTEND:20251122T010000Z
SUMMARY:Interviews and Interrogations
DESCRIPTION:Law Enforcement Training
Hosted by: Institute of Police Technology and Management (IPTM)

View event details:
https://www.leo-network.com/event/interviews-and-interrogations-pensacola-fl-8493/
LOCATION:Pensacola, FL
URL:https://www.leo-network.com/event/interviews-and-interrogations-pensacola-fl-8493/
END:VEVENT
END:VCALENDAR
