BEGIN:VCALENDAR
VERSION:2.0
PRODID:-//LEO Network//Training Calendar//EN
BEGIN:VEVENT
UID:event-8508@leo-network.com
DTSTAMP:20260420T203157Z
DTSTART:20251110T160000Z
DTEND:20251115T010000Z
SUMMARY:Event Data Recorder Use in Traffic Crash Reconstruction - Level I
DESCRIPTION:Law Enforcement Training
Hosted by: Institute of Police Technology and Management (IPTM)

View event details:
https://www.leo-network.com/event/event-data-recorder-use-in-traffic-crash-reconstruction-level-i-gaithersburg-md-8508/
LOCATION:Gaithersburg, MD
URL:https://www.leo-network.com/event/event-data-recorder-use-in-traffic-crash-reconstruction-level-i-gaithersburg-md-8508/
END:VEVENT
END:VCALENDAR
