BEGIN:VCALENDAR
VERSION:2.0
PRODID:-//LEO Network//Training Calendar//EN
BEGIN:VEVENT
UID:event-8514@leo-network.com
DTSTAMP:20260421T141536Z
DTSTART:20250909T150000Z
DTEND:20250910T000000Z
SUMMARY:Marijuana Impaired Driving Detection for Law Enforcement
DESCRIPTION:Law Enforcement Training
Hosted by: Institute of Police Technology and Management (IPTM)

View event details:
https://www.leo-network.com/event/marijuana-impaired-driving-detection-for-law-enforcement-miami-fl-8514/
LOCATION:Miami, FL
URL:https://www.leo-network.com/event/marijuana-impaired-driving-detection-for-law-enforcement-miami-fl-8514/
END:VEVENT
END:VCALENDAR
