BEGIN:VCALENDAR
VERSION:2.0
PRODID:-//LEO Network//Training Calendar//EN
BEGIN:VEVENT
UID:event-8516@leo-network.com
DTSTAMP:20260420T202433Z
DTSTART:20251117T160000Z
DTEND:20251122T010000Z
SUMMARY:Event Data Recorder Use in Traffic Crash Reconstruction - Level II
DESCRIPTION:Law Enforcement Training
Hosted by: Institute of Police Technology and Management (IPTM)

View event details:
https://www.leo-network.com/event/event-data-recorder-use-in-traffic-crash-reconstruction-level-ii-gaithersburg-md-8516/
LOCATION:Gaithersburg, MD
URL:https://www.leo-network.com/event/event-data-recorder-use-in-traffic-crash-reconstruction-level-ii-gaithersburg-md-8516/
END:VEVENT
END:VCALENDAR
