BEGIN:VCALENDAR
VERSION:2.0
PRODID:-//LEO Network//Training Calendar//EN
BEGIN:VEVENT
UID:event-8519@leo-network.com
DTSTAMP:20260421T141503Z
DTSTART:20250910T150000Z
DTEND:20250911T000000Z
SUMMARY:Advanced Marijuana Impaired Driving Detection for Law Enforcement
DESCRIPTION:Law Enforcement Training
Hosted by: Institute of Police Technology and Management (IPTM)

View event details:
https://www.leo-network.com/event/advanced-marijuana-impaired-driving-detection-for-law-enforcement-miami-fl-8519/
LOCATION:Miami, FL
URL:https://www.leo-network.com/event/advanced-marijuana-impaired-driving-detection-for-law-enforcement-miami-fl-8519/
END:VEVENT
END:VCALENDAR
