BEGIN:VCALENDAR
VERSION:2.0
PRODID:-//LEO Network//Training Calendar//EN
BEGIN:VEVENT
UID:event-8526@leo-network.com
DTSTAMP:20260421T203115Z
DTSTART:20251208T160000Z
DTEND:20251213T010000Z
SUMMARY:Occupant Kinetics for the Traffic Crash Reconstructionist
DESCRIPTION:Law Enforcement Training
Hosted by: Institute of Police Technology and Management (IPTM)

View event details:
https://www.leo-network.com/event/occupant-kinetics-for-the-traffic-crash-reconstructionist-windsor-locks-ct-8526/
LOCATION:Windsor Locks, CT
URL:https://www.leo-network.com/event/occupant-kinetics-for-the-traffic-crash-reconstructionist-windsor-locks-ct-8526/
END:VEVENT
END:VCALENDAR
