BEGIN:VCALENDAR
VERSION:2.0
PRODID:-//LEO Network//Training Calendar//EN
BEGIN:VEVENT
UID:event-8529@leo-network.com
DTSTAMP:20260420T040510Z
DTSTART:20251006T150000Z
DTEND:20251016T000000Z
SUMMARY:Advanced Traffic Crash Investigation
DESCRIPTION:Law Enforcement Training
Hosted by: Institute of Police Technology and Management (IPTM)

View event details:
https://www.leo-network.com/event/advanced-traffic-crash-investigation-ammon-id-8529/
LOCATION:Ammon, ID
URL:https://www.leo-network.com/event/advanced-traffic-crash-investigation-ammon-id-8529/
END:VEVENT
END:VCALENDAR
