BEGIN:VCALENDAR
VERSION:2.0
PRODID:-//LEO Network//Training Calendar//EN
BEGIN:VEVENT
UID:event-8570@leo-network.com
DTSTAMP:20260420T021416Z
DTSTART:20250821T150000Z
DTEND:20250823T000000Z
SUMMARY:New Jersey Training Workshop (Attorney General Guidelines)
DESCRIPTION:Law Enforcement Training
Hosted by: J Harris Academy of Police Training

View event details:
https://www.leo-network.com/event/new-jersey-training-workshop-attorney-general-guidelines-galloway-nj-8570/
LOCATION:Galloway, NJ
URL:https://www.leo-network.com/event/new-jersey-training-workshop-attorney-general-guidelines-galloway-nj-8570/
END:VEVENT
END:VCALENDAR
