BEGIN:VCALENDAR
VERSION:2.0
PRODID:-//LEO Network//Training Calendar//EN
BEGIN:VEVENT
UID:event-8578@leo-network.com
DTSTAMP:20260422T231250Z
DTSTART:20260112T160000Z
DTEND:20260114T010000Z
SUMMARY:Behavioral Analysis: Six Channel System
DESCRIPTION:Law Enforcement Training
Hosted by: ONEFACE LLC

View event details:
https://www.leo-network.com/event/behavioral-analysis-six-channel-system-abington-pa-8578/
LOCATION:Abington, PA
URL:https://www.leo-network.com/event/behavioral-analysis-six-channel-system-abington-pa-8578/
END:VEVENT
END:VCALENDAR
