BEGIN:VCALENDAR
VERSION:2.0
PRODID:-//LEO Network//Training Calendar//EN
BEGIN:VEVENT
UID:event-8617@leo-network.com
DTSTAMP:20260420T021606Z
DTSTART:20250804T150000Z
DTEND:20250806T000000Z
SUMMARY:New Jersey: Comprehensive Case Law (Update/Overview)  
DESCRIPTION:Law Enforcement Training
Hosted by: J Harris Academy of Police Training

View event details:
https://www.leo-network.com/event/new-jersey-comprehensive-case-law-update-overview-galloway-nj-8617/
LOCATION:Galloway, NJ
URL:https://www.leo-network.com/event/new-jersey-comprehensive-case-law-update-overview-galloway-nj-8617/
END:VEVENT
END:VCALENDAR
