BEGIN:VCALENDAR
VERSION:2.0
PRODID:-//LEO Network//Training Calendar//EN
BEGIN:VEVENT
UID:event-8622@leo-network.com
DTSTAMP:20260420T074753Z
DTSTART:20250825T150000Z
DTEND:20250826T000000Z
SUMMARY:Elicitation Methods Live Webinar
DESCRIPTION:Law Enforcement Training
Hosted by: ONEFACE LLC

View event details:
https://www.leo-network.com/event/elicitation-methods-live-webinar-online-8622/
LOCATION:NA, OL
URL:https://www.leo-network.com/event/elicitation-methods-live-webinar-online-8622/
END:VEVENT
END:VCALENDAR
